Workbook

Sheet Profile plotter
A1: X axis | B1: F#103 | C1: F#104
A2: 0 | B2: 1.18452e-09 | C2: 6.59463e-10
A3: 1 | B3: 1.17911e-09 | C3: 6.58996e-10
A4: 2 | B4: 1.18682e-09 | C4: 6.59179e-10
A5: 3 | B5: 1.18207e-09 | C5: 6.58683e-10
A6: 4 | B6: 1.17763e-09 | C6: 6.5823e-10
A7: 5 | B7: 1.17965e-09 | C7: 6.57202e-10
A8: 6 | B8: 1.18208e-09 | C8: 6.58774e-10
A9: 7 | B9: 1.1819e-09 | C9: 6.58582e-10
A10: 8 | B10: 1.18323e-09 | C10: 6.58792e-10
A11: 9 | B11: 1.18091e-09 | C11: 6.577e-10
A12: 10 | B12: 1.17358e-09
A13: 11 | B13: 1.18009e-09
A14: 12 | B14: 1.18382e-09
A15: 13 | B15: 1.17951e-09
A16: 14 | B16: 1.18365e-09
A17: 15 | B17: 1.18144e-09
A18: 16 | B18: 1.17554e-09
A19: 17 | B19: 1.17188e-09
A20: 18 | B20: 1.17227e-09
A21: 19 | B21: 1.17493e-09
A22: 20 | B22: 1.17784e-09
A23: 21 | B23: 1.17253e-09
... A2001: 1999 | B2001: 1.28006e-10

Sheet Export profiles csv
A1: Facet number | B1: Profile_type | C1: O_x | D1: O_y | E1: O_z | F1: U_x | G1: U_y | H1: U_z | I1: V_x | J1: V_y | K1: V_z | L1: U_length | M1: V_length | N1: Center_x | O1: Center_y | P1: Center_z | Q1: V_max | R1: MC Hits | S1: Hit equiv. | T1: 1 | U1: 2 | V1: 3 | W1: 4 | X1: 5 | Y1: 6 | Z1: 7 | AA1: 8 | AB1: 9 | AC1: 10 | AD1: 11 | AE1: 12 | AF1: 13 | AG1: 14 | AH1: 15 | AI1: 16 | AJ1: 17 | AK1: 18 | AL1: 19 | AM1: 20 | AN1: 21 | AO1: 22 | AP1: 23 | AQ1: 24 | AR1: 25 | AS1: 26 | AT1: 27 | AU1: 28 | AV1: 29 | AW1: 30 | AX1: 31 | AY1: 32 | AZ1: 33 | BA1: 34 | BB1: 35 | BC1: 36 | BD1: 37 | BE1: 38 | BF1: 39 | BG1: 40 | BH1: 41 | BI1: 42 | BJ1: 43 | BK1: 44 | BL1: 45 | BM1: 46 | BN1: 47 | BO1: 48 | BP1: 49 | BQ1: 50 | BR1: 51 | BS1: 52 | BT1: 53 | BU1: 54 | BV1: 55 | BW1: 56 | BX1: 57 | BY1: 58 | BZ1: 59 | CA1: 60 | CB1: 61 | CC1: 62 | CD1: 63 | CE1: 64 | CF1: 65 | CG1: 66 | CH1: 67 | CI1: 68 | CJ1: 69 | CK1: 70 | CL1: 71 | CM1: 72 | CN1: 73 | CO1: 74 | CP1: 75 | CQ1: 76 | CR1: 77 | CS1: 78 | CT1: 79 | CU1: 80 | CV1: 81 | CW1: 82 | CX1: 83 | CY1: 84 | CZ1: 85 | DA1: 86 | DB1: 87 | DC1: 88 | DD1: 89 | DE1: 90 | DF1: 91 | DG1: 92 | DH1: 93 | DI1: 94 | DJ1: 95 | DK1: 96 | DL1: 97 | DM1: 98 | DN1: 99 | DO1: 100
A2: moment 0 (Constant Flow){
A3: 103 | B3: Along Å© | C3: -0.0025 | D3: 0 | E3: 0 | F3: 0 | G3: 0 | H3: 0.2 | I3: 0.005 | J3: 0 | K3: 0 | L3: 0.2 | M3: 0.005 | N3: 0 | O3: 0 | P3: 0.1 | Q3: 1669.01 | R3: 160302935 | S3: 160303000 | T3: 5.9226e-10 | U3: 5.89557e-10 | V3: 5.93409e-10 | W3: 5.91033e-10 | X3: 5.88813e-10 | Y3: 5.89823e-10 | Z3: 5.9104e-10 | AA3: 5.90948e-10 | AB3: 5.91614e-10 | AC3: 5.90454e-10 | AD3: 5.86789e-10 | AE3: 5.90047e-10 | AF3: 5.91912e-10 | AG3: 5.89756e-10 | AH3: 5.91824e-10 | AI3: 5.90719e-10 | AJ3: 5.8777e-10 | AK3: 5.85938e-10 | AL3: 5.86134e-10 | AM3: 5.87466e-10 | AN3: 5.88919e-10 | AO3: 5.86265e-10 | AP3: 5.84247e-10 | AQ3: 5.87296e-10 | AR3: 5.84302e-10 | AS3: 5.88954e-10 | AT3: 5.87137e-10 | AU3: 5.82424e-10 | AV3: 5.83677e-10 | AW3: 5.80871e-10 | AX3: 5.847e-10 | AY3: 5.841e-10 | AZ3: 5.8337e-10 | BA3: 5.87404e-10 | BB3: 5.81466e-10 | BC3: 5.84011e-10 | BD3: 5.82384e-10 | BE3: 5.82196e-10 | BF3: 5.77998e-10 | BG3: 5.79125e-10 | BH3: 5.82288e-10 | BI3: 5.84398e-10 | BJ3: 5.75579e-10 | BK3: 5.76155e-10 | BL3: 5.76539e-10 | BM3: 5.78703e-10 | BN3: 5.76682e-10 | BO3: 5.81595e-10 | BP3: 5.77335e-10 | BQ3: 5.78779e-10 | BR3: 5.74628e-10 | BS3: 5.77407e-10 | BT3: 5.75028e-10 | BU3: 5.72296e-10 | BV3: 5.74924e-10 | BW3: 5.71786e-10 | BX3: 5.71753e-10 | BY3: 5.76768e-10 | BZ3: 5.74114e-10 | CA3: 5.71393e-10 | CB3: 5.72126e-10 | CC3: 5.7376e-10 | CD3: 5.72864e-10 | CE3: 5.73992e-10 | CF3: 5.72892e-10 | CG3: 5.72804e-10 | CH3: 5.70572e-10 | CI3: 5.7008e-10 | CJ3: 5.69731e-10 | CK3: 5.74153e-10 | CL3: 5.70221e-10 | CM3: 5.71246e-10 | CN3: 5.69474e-10 | CO3: 5.71515e-10 | CP3: 5.6789e-10 | CQ3: 5.70722e-10 | CR3: 5.70371e-10 | CS3: 5.66938e-10 | CT3: 5.65618e-10 | CU3: 5.67775e-10 | CV3: 5.62622e-10 | CW3: 5.67275e-10 | CX3: 5.66715e-10 | CY3: 5.68625e-10 | CZ3: 5.66498e-10 | DA3: 5.62547e-10 | DB3: 5.63594e-10 | DC3: 5.63876e-10 | DD3: 5.65416e-10 | DE3: 5.66255e-10 | DF3: 5.66924e-10 | DG3: 5.65138e-10 | DH3: 5.62596e-10 | DI3: 5.62726e-10 | DJ3: 5.62902e-10 | DK3: 5.65006e-10 | DL3: 5.62288e-10 | DM3: 5.60543e-10 | DN3: 5.61221e-10 | DO3: 5.6018e-10 | DP3: 5.63117e-10 | DQ3: 5.6197e-10 | DR3: 5.57076e-10 | DS3: 5.59063e-10 | DT3: 5.6154e-10 | DU3: 5.62051e-10 | DV3: 5.60904e-10 | DW3: 5.56979e-10 | DX3: 5.5619e-10 | DY3: 5.57598e-10 | DZ3: 5.60192e-10 | EA3: 5.58299e-10 | EB3: 5.58195e-10 | EC3: 5.53074e-10 | ED3: 5.57697e-10 | EE3: 5.61376e-10 | EF3: 5.60044e-10 | EG3: 5.57094e-10 | EH3: 5.55159e-10 | EI3: 5.56639e-10 | EJ3: 5.5451e-10 | EK3: 5.57931e-10 | EL3: 5.5465e-10 | EM3: 5.56765e-10 | EN3: 5.53852e-10 | EO3: 5.51931e-10 | EP3: 5.49368e-10 | EQ3: 5.55935e-10 | ER3: 5.54791e-10 | ES3: 5.50513e-10 | ET3: 5.51312e-10 | EU3: 5.54359e-10 | EV3: 5.53161e-10 | EW3: 5.54604e-10 | EX3: 5.50815e-10 | EY3: 5.52767e-10 | EZ3: 5.49318e-10 | FA3: 5.49912e-10 | FB3: 5.48326e-10 | FC3: 5.50834e-10 | FD3: 5.49908e-10 | FE3: 5.48217e-10 | FF3: 5.49763e-10 | FG3: 5.48725e-10 | FH3: 5.48389e-10 | FI3: 5.48141e-10 | FJ3: 5.46212e-10 | FK3: 5.48979e-10 | FL3: 5.49738e-10 | FM3: 5.46543e-10 | FN3: 5.47158e-10 | FO3: 5.44845e-10 | FP3: 5.45418e-10 | FQ3: 5.47813e-10 | FR3: 5.46375e-10 | FS3: 5.45017e-10 | FT3: 5.4453e-10 | FU3: 5.45933e-10 | FV3: 5.47827e-10 | FW3: 5.47623e-10 | FX3: 5.42644e-10 | FY3: 5.43032e-10 | FZ3: 5.39371e-10 | GA3: 5.44169e-10 | GB3: 5.40712e-10 | GC3: 5.43825e-10 | GD3: 5.41743e-10 | GE3: 5.42953e-10 | GF3: 5.41645e-10 | GG3: 5.39252e-10 | GH3: 5.41202e-10 | GI3: 5.41151e-10 | GJ3: 5.40554e-10 | GK3: 5.41435e-10 | GL3: 5.4284e-10 | GM3: 5.40664e-10 | GN3: 5.41209e-10 | GO3: 5.39963e-10 | GP3: 5.39294e-10 | GQ3: 5.39227e-10 | GR3: 5.39826e-10 | GS3: 5.38168e-10 | GT3: 5.37039e-10 | GU3: 5.37588e-10 | GV3: 5.33312e-10 | GW3: 5.38904e-10 | GX3: 5.36708e-10 | GY3: 5.35167e-10 | GZ3: 5.39334e-10 | HA3: 5.36293e-10 | HB3: 5.34437e-10 | HC3: 5.36573e-10 | HD3: 5.35318e-10 | HE3: 5.36024e-10 | HF3: 5.35764e-10 | HG3: 5.34729e-10 | HH3: 5.32047e-10 | HI3: 5.32461e-10 | HJ3: 5.3644e-10 | HK3: 5.31977e-10 | HL3: 5.34056e-10 | HM3: 5.34146e-10 | HN3: 5.32616e-10 | HO3: 5.31954e-10 | HP3: 5.32112e-10 | HQ3: 5.32261e-10 | HR3: 5.34773e-10 | HS3: 5.32759e-10 | HT3: 5.34777e-10 | HU3: 5.3203e-10 | HV3: 5.30361e-10 | HW3: 5.34314e-10 | HX3: 5.31714e-10 | HY3: 5.26655e-10 | HZ3: 5.30613e-10 | IA3: 5.25757e-10 | IB3: 5.27467e-10 | IC3: 5.28381e-10 | ID3: 5.2936e-10 | IE3: 5.28954e-10 | IF3: 5.27485e-10 | IG3: 5.27672e-10 | IH3: 5.30148e-10 | II3: 5.24559e-10 | IJ3: 5.23363e-10 | IK3: 5.29167e-10 | IL3: 5.25423e-10 | IM3: 5.29372e-10 | IN3: 5.24786e-10 | IO3: 5.26677e-10 | IP3: 5.28462e-10 | IQ3: 5.23673e-10 | IR3: 5.24646e-10 | IS3: 5.23137e-10 | IT3: 5.26241e-10 | IU3: 5.30532e-10 | IV3: 5.2462e-10 | IW3: 5.23243e-10 | IX3: 5.24594e-10 | IY3: 5.23502e-10 | IZ3: 5.22411e-10 | JA3: 5.22383e-10 | JB3: 5.21857e-10 | JC3: 5.21008e-10 | JD3: 5.20779e-10 | JE3: 5.19663e-10 | JF3: 5.21285e-10 | JG3: 5.21392e-10 | JH3: 5.21491e-10 | JI3: 5.25165e-10 | JJ3: 5.2246e-10 | JK3: 5.17604e-10 | JL3: 5.20217e-10 | JM3: 5.2155e-10 | JN3: 5.22201e-10 | JO3: 5.1953e-10 | JP3: 5.16476e-10 | JQ3: 5.1956e-10 | JR3: 5.17955e-10 | JS3: 5.18519e-10 | JT3: 5.15422e-10 | JU3: 5.17035e-10 | JV3: 5.16551e-10 | JW3: 5.17141e-10 | JX3: 5.19303e-10 | JY3: 5.14628e-10 | JZ3: 5.13628e-10 | KA3: 5.16328e-10 | KB3: 5.15844e-10 | KC3: 5.1586e-10 | KD3: 5.16315e-10 | KE3: 5.12154e-10 | KF3: 5.13529e-10 | KG3: 5.14033e-10 | KH3: 5.1277e-10 | KI3: 5.13333e-10 | KJ3: 5.15013e-10 | KK3: 5.16114e-10 | KL3: 5.15262e-10 | KM3: 5.11474e-10 | KN3: 5.14464e-10 | KO3: 5.14477e-10 | KP3: 5.10277e-10 | KQ3: 5.10403e-10 | KR3: 5.1141e-10 | KS3: 5.11121e-10 | KT3: 5.11436e-10 | KU3: 5.11832e-10 | KV3: 5.09216e-10 | KW3: 5.07845e-10 | KX3: 5.10116e-10 | KY3: 5.1059e-10 | KZ3: 5.0614e-10 | LA3: 5.07732e-10 | LB3: 5.10414e-10 | LC3: 5.07572e-10 | LD3: 5.05053e-10 | LE3: 5.07991e-10 | LF3: 5.09172e-10 | LG3: 5.0765e-10 | LH3: 5.09838e-10 | LI3: 5.07842e-10 | LJ3: 5.06394e-10 | LK3: 5.07104e-10 | LL3: 5.06305e-10 | LM3: 5.05005e-10 | LN3: 5.04524e-10 | LO3: 5.06141e-10 | LP3: 5.03876e-10 | LQ3: 5.01999e-10 | LR3: 5.04434e-10 | LS3: 5.05657e-10 | LT3: 5.04113e-10 | LU3: 5.07109e-10 | LV3: 5.05429e-10 | LW3: 5.03154e-10 | LX3: 5.04917e-10 | LY3: 5.04281e-10 | LZ3: 5.01396e-10 | MA3: 5.0088e-10 | MB3: 5.03767e-10 | MC3: 5.00085e-10 | MD3: 4.9946e-10 | ME3: 5.01328e-10 | MF3: 5.01668e-10 | MG3: 4.9965e-10 | MH3: 5.00383e-10 | MI3: 4.99237e-10 | MJ3: 5.00939e-10 | MK3: 5.00863e-10 | ML3: 5.0348e-10 | MM3: 4.99429e-10 | MN3: 4.98249e-10 | MO3: 5.00086e-10 | MP3: 4.99031e-10 | MQ3: 4.99054e-10 | MR3: 4.98024e-10 | MS3: 4.97464e-10 | MT3: 4.96186e-10 | MU3: 4.94306e-10 | MV3: 4.94979e-10 | MW3: 4.94339e-10 | MX3: 4.98554e-10 | MY3: 4.97517e-10 | MZ3: 4.96946e-10 | NA3: 4.96368e-10 | NB3: 4.98555e-10 | NC3: 4.96277e-10 | ND3: 4.93398e-10 | NE3: 4.95644e-10 | NF3: 4.93746e-10 | NG3: 4.94042e-10 | NH3: 4.94656e-10 | NI3: 4.93031e-10 | NJ3: 4.91809e-10 | NK3: 4.95615e-10 | NL3: 4.90133e-10 | NM3: 4.92664e-10 | NN3: 4.91734e-10 | NO3: 4.90993e-10 | NP3: 4.9052e-10 | NQ3: 4.94441e-10 | NR3: 4.89203e-10 | NS3: 4.92206e-10 | NT3: 4.91722e-10 | NU3: 4.91524e-10 | NV3: 4.87186e-10 | NW3: 4.89664e-10 | NX3: 4.88394e-10 | NY3: 4.90047e-10 | NZ3: 4.89202e-10 | OA3: 4.88387e-10 | OB3: 4.89013e-10 | OC3: 4.88901e-10 | OD3: 4.87163e-10 | OE3: 4.87211e-10 | OF3: 4.86942e-10 | OG3: 4.85623e-10 | OH3: 4.86772e-10 | OI3: 4.82929e-10 | OJ3: 4.86538e-10 | OK3: 4.87447e-10 | OL3: 4.86853e-10 | OM3: 4.8426e-10 | ON3: 4.85256e-10 | OO3: 4.87644e-10 | OP3: 4.84243e-10 | OQ3: 4.84436e-10 | OR3: 4.84043e-10 | OS3: 4.84796e-10 | OT3: 4.82927e-10 | OU3: 4.8135e-10 | OV3: 4.83729e-10 | OW3: 4.84426e-10 | OX3: 4.83187e-10 | OY3: 4.82632e-10 | OZ3: 4.81778e-10 | PA3: 4.82156e-10 | PB3: 4.82905e-10 | PC3: 4.79644e-10 | PD3: 4.82202e-10 | PE3: 4.81105e-10 | PF3: 4.80403e-10 | PG3: 4.82243e-10 | PH3: 4.78831e-10 | PI3: 4.7906e-10 | PJ3: 4.77128e-10 | PK3: 4.8235e-10 | PL3: 4.79357e-10 | PM3: 4.79315e-10 | PN3: 4.79435e-10 | PO3: 4.77784e-10 | PP3: 4.75944e-10 | PQ3: 4.76402e-10 | PR3: 4.74938e-10 | PS3: 4.75278e-10 | PT3: 4.7441e-10 | PU3: 4.76515e-10 | PV3: 4.77672e-10 | PW3: 4.75381e-10 | PX3: 4.75161e-10 | PY3: 4.74813e-10 | PZ3: 4.75957e-10 | QA3: 4.76527e-10 | QB3: 4.75887e-10 | QC3: 4.73825e-10 | QD3: 4.74891e-10 | QE3: 4.72933e-10 | QF3: 4.7355e-10 | QG3: 4.75615e-10 | QH3: 4.71476e-10 | QI3: 4.74827e-10 | QJ3: 4.71462e-10 | QK3: 4.72171e-10 | QL3: 4.69922e-10 | QM3: 4.72664e-10 | QN3: 4.72049e-10 | QO3: 4.7176e-10 | QP3: 4.6954e-10 | QQ3: 4.6992e-10 | QR3: 4.69756e-10 | QS3: 4.70006e-10 | QT3: 4.68218e-10 | QU3: 4.71059e-10 | QV3: 4.68671e-10 | QW3: 4.68838e-10 | QX3: 4.67573e-10 | QY3: 4.70484e-10 | QZ3: 4.6862e-10 | RA3: 4.66411e-10 | RB3: 4.68868e-10 | RC3: 4.68428e-10 | RD3: 4.68061e-10 | RE3: 4.68374e-10 | RF3: 4.6592e-10 | RG3: 4.66983e-10 | RH3: 4.68503e-10 | RI3: 4.6631e-10 | RJ3: 4.65836e-10 | RK3: 4.67975e-10 | RL3: 4.69475e-10 | RM3: 4.64611e-10 | RN3: 4.67447e-10 | RO3: 4.66438e-10 | RP3: 4.63413e-10 | RQ3: 4.6143e-10 | RR3: 4.61256e-10 | RS3: 4.65095e-10 | RT3: 4.63272e-10 | RU3: 4.63448e-10 | RV3: 4.63066e-10 | RW3: 4.64463e-10 | RX3: 4.60765e-10 | RY3: 4.6095e-10 | RZ3: 4.63179e-10 | SA3: 4.59485e-10 | SB3: 4.63125e-10 | SC3: 4.62282e-10 | SD3: 4.62424e-10 | SE3: 4.60985e-10 | SF3: 4.61946e-10 | SG3: 4.59196e-10 | SH3: 4.59446e-10 | SI3: 4.59291e-10 | SJ3: 4.62566e-10 | SK3: 4.62251e-10 | SL3: 4.57613e-10 | SM3: 4.56625e-10 | SN3: 4.5958e-10 | SO3: 4.57903e-10 | SP3: 4.584e-10 | SQ3: 4.57017e-10 | SR3: 4.5735e-10 | SS3: 4.59904e-10 | ST3: 4.56932e-10 | SU3: 4.57868e-10 | SV3: 4.55317e-10 | SW3: 4.54477e-10 | SX3: 4.55306e-10 | SY3: 4.56178e-10 | SZ3: 4.55569e-10 | TA3: 4.56554e-10 | TB3: 4.5601e-10 | TC3: 4.53058e-10 | TD3: 4.53381e-10 | TE3: 4.52276e-10 | TF3: 4.53937e-10 | TG3: 4.55523e-10 | TH3: 4.52555e-10 | TI3: 4.52232e-10 | TJ3: 4.50847e-10 | TK3: 4.54928e-10 | TL3: 4.521e-10 | TM3: 4.52302e-10 | TN3: 4.53081e-10 | TO3: 4.51367e-10 | TP3: 4.52164e-10 | TQ3: 4.49937e-10 | TR3: 4.47795e-10 | TS3: 4.48574e-10 | TT3: 4.53808e-10 | TU3: 4.50061e-10 | TV3: 4.51588e-10 | TW3: 4.4656e-10 | TX3: 4.48743e-10 | TY3: 4.48285e-10 | TZ3: 4.4661e-10 | UA3: 4.48041e-10 | UB3: 4.50818e-10 | UC3: 4.4883e-10 | UD3: 4.45075e-10 | UE3: 4.47943e-10 | UF3: 4.4443e-10 | UG3: 4.47185e-10 | UH3: 4.47177e-10 | UI3: 4.43749e-10 | UJ3: 4.45135e-10 | UK3: 4.46057e-10 | UL3: 4.45519e-10 | UM3: 4.49048e-10 | UN3: 4.45572e-10 | UO3: 4.45511e-10 | UP3: 4.47647e-10 | UQ3: 4.428e-10 | UR3: 4.42776e-10 | US3: 4.43492e-10 | UT3: 4.43342e-10 | UU3: 4.43728e-10 | UV3: 4.44941e-10 | UW3: 4.41384e-10 | UX3: 4.44067e-10 | UY3: 4.41704e-10 | UZ3: 4.43265e-10 | VA3: 4.41024e-10 | VB3: 4.43545e-10 | VC3: 4.42422e-10 | VD3: 4.42101e-10 | VE3: 4.41097e-10 | VF3: 4.38359e-10 | VG3: 4.37623e-10 | VH3: 4.42994e-10 | VI3: 4.39753e-10 | VJ3: 4.36953e-10 | VK3: 4.38414e-10 | VL3: 4.40071e-10 | VM3: 4.391e-10 | VN3: 4.36437e-10 | VO3: 4.38302e-10 | VP3: 4.38071e-10 | VQ3: 4.39467e-10 | VR3: 4.36813e-10 | VS3: 4.37138e-10 | VT3: 4.35954e-10 | VU3: 4.34887e-10 | VV3: 4.39215e-10 | VW3: 4.35036e-10 | VX3: 4.35482e-10 | VY3: 4.35659e-10 | VZ3: 4.34494e-10 | WA3: 4.37133e-10 | WB3: 4.37711e-10 | WC3: 4.33038e-10 | WD3: 4.32165e-10 | WE3: 4.31949e-10 | WF3: 4.32631e-10 | WG3: 4.34278e-10 | WH3: 4.35994e-10 | WI3: 4.32941e-10 | WJ3: 4.34145e-10 | WK3: 4.31434e-10 | WL3: 4.31557e-10 | WM3: 4.28792e-10 | WN3: 4.31553e-10 | WO3: 4.3249e-10 | WP3: 4.30671e-10 | WQ3: 4.32659e-10 | WR3: 4.30624e-10 | WS3: 4.31493e-10 | WT3: 4.28767e-10 | WU3: 4.30759e-10 | WV3: 4.29768e-10 | WW3: 4.25279e-10 | WX3: 4.2853e-10 | WY3: 4.27305e-10 | WZ3: 4.2939e-10 | XA3: 4.26907e-10 | XB3: 4.28681e-10 | XC3: 4.27868e-10 | XD3: 4.27031e-10 | XE3: 4.29952e-10 | XF3: 4.26506e-10 | XG3: 4.29022e-10 | XH3: 4.26694e-10 | XI3: 4.28696e-10 | XJ3: 4.26232e-10 | XK3: 4.2583e-10 | XL3: 4.2459e-10 | XM3: 4.27118e-10 | XN3: 4.24877e-10 | XO3: 4.26294e-10 | XP3: 4.26164e-10 | XQ3: 4.24921e-10 | XR3: 4.22121e-10 | XS3: 4.2556e-10 | XT3: 4.24903e-10 | XU3: 4.20326e-10 | XV3: 4.23262e-10 | XW3: 4.25331e-10 | XX3: 4.246e-10 | XY3: 4.22248e-10 | XZ3: 4.21215e-10 | YA3: 4.20116e-10 | YB3: 4.23547e-10 | YC3: 4.20757e-10 | YD3: 4.21104e-10 | YE3: 4.24066e-10 | YF3: 4.20102e-10 | YG3: 4.21623e-10 | YH3: 4.18316e-10 | YI3: 4.21002e-10 | YJ3: 4.19852e-10 | YK3: 4.18245e-10 | YL3: 4.19708e-10 | YM3: 4.18189e-10 | YN3: 4.17828e-10 | YO3: 4.1624e-10 | YP3: 4.18674e-10 | YQ3: 4.16765e-10 | YR3: 4.18377e-10 | YS3: 4.15357e-10 | YT3: 4.18071e-10 | YU3: 4.15955e-10 | YV3: 4.17883e-10 | YW3: 4.16121e-10 | YX3: 4.17e-10 | YY3: 4.15852e-10 | YZ3: 4.13917e-10 | ZA3: 4.1672e-10 | ZB3: 4.15895e-10 | ZC3: 4.13416e-10 | ZD3: 4.14243e-10 | ZE3: 4.15108e-10 | ZF3: 4.15366e-10 | ZG3: 4.13034e-10 | ZH3: 4.13306e-10 | ZI3: 4.12665e-10 | ZJ3: 4.09428e-10 | ZK3: 4.10831e-10 | ZL3: 4.14354e-10 | ZM3: 4.13575e-10 | ZN3: 4.10626e-10 | ZO3: 4.13019e-10 | ZP3: 4.11929e-10 | ZQ3: 4.09194e-10 | ZR3: 4.10163e-10 | ZS3: 4.09687e-10 | ZT3: 4.12155e-10 | ZU3: 4.10218e-10 | ZV3: 4.1174e-10 | ZW3: 4.10317e-10 | ZX3: 4.09353e-10 | ZY3: 4.08196e-10 | ZZ3: 4.08945e-10 | AAA3: 4.09595e-10 | AAB3: 4.08008e-10 | AAC3: 4.09128e-10 | AAD3: 4.07503e-10 | AAE3: 4.07127e-10 | AAF3: 4.0868e-10 | AAG3: 4.09311e-10 | AAH3: 4.0564e-10 | AAI3: 4.06538e-10 | AAJ3: 4.07387e-10 | AAK3: 4.0693e-10 | AAL3: 4.07226e-10 | AAM3: 4.06554e-10 | AAN3: 4.05234e-10 | AAO3: 4.09627e-10 | AAP3: 4.07058e-10 | AAQ3: 4.04998e-10 | AAR3: 4.05644e-10 | AAS3: 4.00353e-10 | AAT3: 4.02025e-10 | AAU3: 4.05983e-10 | AAV3: 4.03066e-10 | AAW3: 4.04007e-10 | AAX3: 4.03433e-10 | AAY3: 4.04128e-10 | AAZ3: 4.01877e-10 | ABA3: 4.03349e-10 | ABB3: 4.02628e-10 | ABC3: 4.01765e-10 | ABD3: 4.03807e-10 | ABE3: 3.98867e-10 | ABF3: 4.0194e-10 | ABG3: 3.96736e-10 | ABH3: 3.9869e-10 | ABI3: 4.02107e-10 | ABJ3: 4.01233e-10 | ABK3: 4.00393e-10 | ABL3: 3.97876e-10 | ABM3: 3.9801e-10 | ABN3: 3.98725e-10 | ABO3: 3.9666e-10 | ABP3: 3.9708e-10 | ABQ3: 3.96513e-10 | ABR3: 3.95829e-10 | ABS3: 3.96799e-10 | ABT3: 3.95577e-10 | ABU3: 3.97783e-10 | ABV3: 3.97002e-10 | ABW3: 3.94932e-10 | ABX3: 3.97187e-10 | ABY3: 3.96704e-10 | ABZ3: 3.97508e-10 | ACA3: 3.9191e-10 | ACB3: 3.9577e-10 | ACC3: 3.95384e-10 | ACD3: 3.95303e-10 | ACE3: 3.96629e-10 | ACF3: 3.92762e-10 | ACG3: 3.95041e-10 | ACH3: 3.9119e-10 | ACI3: 3.9291e-10 | ACJ3: 3.91086e-10 | ACK3: 3.93644e-10 | ACL3: 3.93998e-10 | ACM3: 3.93679e-10 | ACN3: 3.95715e-10 | ACO3: 3.9254e-10 | ACP3: 3.92212e-10 | ACQ3: 3.91132e-10 | ACR3: 3.90615e-10 | ACS3: 3.92551e-10 | ACT3: 3.9059e-10 | ACU3: 3.8736e-10 | ACV3: 3.8814e-10 | ACW3: 3.90322e-10 | ACX3: 3.90502e-10 | ACY3: 3.87548e-10 | ACZ3: 3.88265e-10 | ADA3: 3.8892e-10 | ADB3: 3.90212e-10 | ADC3: 3.88195e-10 | ADD3: 3.90001e-10 | ADE3: 3.88468e-10 | ADF3: 3.86636e-10 | ADG3: 3.88065e-10 | ADH3: 3.868e-10 | ADI3: 3.85167e-10 | ADJ3: 3.86529e-10 | ADK3: 3.86675e-10 | ADL3: 3.85922e-10 | ADM3: 3.85958e-10 | ADN3: 3.84743e-10 | ADO3: 3.85445e-10 | ADP3: 3.85554e-10 | ADQ3: 3.84409e-10 | ADR3: 3.82637e-10 | ADS3: 3.8372e-10 | ADT3: 3.83427e-10 | ADU3: 3.84205e-10 | ADV3: 3.85477e-10 | ADW3: 3.84021e-10 | ADX3: 3.83418e-10 | ADY3: 3.83503e-10 | ADZ3: 3.86085e-10 | AEA3: 3.81156e-10 | AEB3: 3.80964e-10 | AEC3: 3.80964e-10 | AED3: 3.84256e-10 | AEE3: 3.82558e-10 | AEF3: 3.81138e-10 | AEG3: 3.78619e-10 | AEH3: 3.7802e-10 | AEI3: 3.80446e-10 | AEJ3: 3.80549e-10 | AEK3: 3.8068e-10 | AEL3: 3.79385e-10 | AEM3: 3.81503e-10 | AEN3: 3.79554e-10 | AEO3: 3.7974e-10 | AEP3: 3.77551e-10 | AEQ3: 3.78813e-10 | AER3: 3.78352e-10 | AES3: 3.76726e-10 | AET3: 3.78649e-10 | AEU3: 3.78296e-10 | AEV3: 3.75666e-10 | AEW3: 3.75192e-10 | AEX3: 3.76785e-10 | AEY3: 3.75122e-10 | AEZ3: 3.76355e-10 | AFA3: 3.77196e-10 | AFB3: 3.75207e-10 | AFC3: 3.77211e-10 | AFD3: 3.74052e-10 | AFE3: 3.73101e-10 | AFF3: 3.78012e-10 | AFG3: 3.75389e-10 | AFH3: 3.75381e-10 | AFI3: 3.75178e-10 | AFJ3: 3.73535e-10 | AFK3: 3.73802e-10 | AFL3: 3.70105e-10 | AFM3: 3.73189e-10 | AFN3: 3.73302e-10 | AFO3: 3.7246e-10 | AFP3: 3.70496e-10 | AFQ3: 3.74762e-10 | AFR3: 3.71896e-10 | AFS3: 3.71397e-10 | AFT3: 3.70093e-10 | AFU3: 3.71577e-10 | AFV3: 3.69811e-10 | AFW3: 3.69364e-10 | AFX3: 3.67774e-10 | AFY3: 3.69345e-10 | AFZ3: 3.69902e-10 | AGA3: 3.71314e-10 | AGB3: 3.69056e-10 | AGC3: 3.69506e-10 | AGD3: 3.69439e-10 | AGE3: 3.67488e-10 | AGF3: 3.6852e-10 | AGG3: 3.68628e-10 | AGH3: 3.67279e-10 | AGI3: 3.64736e-10 | AGJ3: 3.67705e-10 | AGK3: 3.65852e-10 | AGL3: 3.66165e-10 | AGM3: 3.67459e-10 | AGN3: 3.69604e-10 | AGO3: 3.66461e-10 | AGP3: 3.64521e-10 | AGQ3: 3.67199e-10 | AGR3: 3.66304e-10 | AGS3: 3.65309e-10 | AGT3: 3.60684e-10 | AGU3: 3.62353e-10 | AGV3: 3.61853e-10 | AGW3: 3.63643e-10 | AGX3: 3.63797e-10 | AGY3: 3.62311e-10 | AGZ3: 3.62082e-10 | AHA3: 3.61422e-10 | AHB3: 3.61659e-10 | AHC3: 3.59634e-10 | AHD3: 3.61797e-10 | AHE3: 3.6047e-10 | AHF3: 3.62067e-10 | AHG3: 3.57673e-10 | AHH3: 3.61993e-10 | AHI3: 3.62778e-10 | AHJ3: 3.5999e-10 | AHK3: 3.6256e-10 | AHL3: 3.62112e-10 | AHM3: 3.60089e-10 | AHN3: 3.59283e-10 | AHO3: 3.59374e-10 | AHP3: 3.58095e-10 | AHQ3: 3.5756e-10 | AHR3: 3.58002e-10 | AHS3: 3.59322e-10 | AHT3: 3.60138e-10 | AHU3: 3.58008e-10 | AHV3: 3.5588e-10 | AHW3: 3.58096e-10 | AHX3: 3.5559e-10 | AHY3: 3.54907e-10 | AHZ3: 3.57369e-10 | AIA3: 3.56395e-10 | AIB3: 3.55245e-10 | AIC3: 3.56109e-10 | AID3: 3.56977e-10 | AIE3: 3.54502e-10 | AIF3: 3.55134e-10 | AIG3: 3.55581e-10 | AIH3: 3.56157e-10 | AII3: 3.53342e-10 | AIJ3: 3.55829e-10 | AIK3: 3.54277e-10 | AIL3: 3.55991e-10 | AIM3: 3.55098e-10 | AIN3: 3.52053e-10 | AIO3: 3.53944e-10 | AIP3: 3.53162e-10 | AIQ3: 3.51949e-10 | AIR3: 3.5088e-10 | AIS3: 3.50528e-10 | AIT3: 3.52115e-10 | AIU3: 3.52092e-10 | AIV3: 3.50972e-10 | AIW3: 3.51038e-10 | AIX3: 3.53085e-10 | AIY3: 3.49183e-10 | AIZ3: 3.49758e-10 | AJA3: 3.5046e-10 | AJB3: 3.50281e-10 | AJC3: 3.48655e-10 | AJD3: 3.49941e-10 | AJE3: 3.49971e-10 | AJF3: 3.48114e-10 | AJG3: 3.47583e-10 | AJH3: 3.47079e-10 | AJI3: 3.47786e-10 | AJJ3: 3.45824e-10 | AJK3: 3.47611e-10 | AJL3: 3.46116e-10 | AJM3: 3.47189e-10 | AJN3: 3.46264e-10 | AJO3: 3.46535e-10 | AJP3: 3.46211e-10 | AJQ3: 3.45498e-10 | AJR3: 3.471e-10 | AJS3: 3.45229e-10 | AJT3: 3.4624e-10 | AJU3: 3.48071e-10 | AJV3: 3.45527e-10 | AJW3: 3.44893e-10 | AJX3: 3.45176e-10 | AJY3: 3.45504e-10 | AJZ3: 3.45924e-10 | AKA3: 3.43219e-10 | AKB3: 3.44032e-10 | AKC3: 3.44664e-10 | AKD3: 3.42403e-10 | AKE3: 3.41611e-10 | AKF3: 3.41839e-10 | AKG3: 3.40509e-10 | AKH3: 3.4165e-10 | AKI3: 3.40987e-10 | AKJ3: 3.40794e-10 | AKK3: 3.40324e-10 | AKL3: 3.41738e-10 | AKM3: 3.39251e-10 | AKN3: 3.39927e-10 | AKO3: 3.40279e-10 | AKP3: 3.40924e-10 | AKQ3: 3.39622e-10 | AKR3: 3.38844e-10 | AKS3: 3.39365e-10 | AKT3: 3.38569e-10 | AKU3: 3.373e-10 | AKV3: 3.37104e-10 | AKW3: 3.38471e-10 | AKX3: 3.3838e-10 | AKY3: 3.35209e-10 | AKZ3: 3.36764e-10 | ALA3: 3.35597e-10 | ALB3: 3.34345e-10 | ALC3: 3.33891e-10 | ALD3: 3.3817e-10 | ALE3: 3.39117e-10 | ALF3: 3.33472e-10 | ALG3: 3.3394e-10 | ALH3: 3.37138e-10 | ALI3: 3.34558e-10 | ALJ3: 3.31658e-10 | ALK3: 3.34868e-10 | ALL3: 3.32029e-10 | ALM3: 3.34483e-10 | ALN3: 3.34203e-10 | ALO3: 3.3547e-10 | ALP3: 3.35607e-10 | ALQ3: 3.33782e-10 | ALR3: 3.34257e-10 | ALS3: 3.33354e-10 | ALT3: 3.32626e-10 | ALU3: 3.32064e-10 | ALV3: 3.31616e-10 | ALW3: 3.29759e-10 | ALX3: 3.31441e-10 | ALY3: 3.29418e-10 | ALZ3: 3.30784e-10 | AMA3: 3.31134e-10 | AMB3: 3.30707e-10 | AMC3: 3.28275e-10 | AMD3: 3.31105e-10 | AME3: 3.28467e-10 | AMF3: 3.29584e-10 | AMG3: 3.27607e-10 | AMH3: 3.28767e-10 | AMI3: 3.27475e-10 | AMJ3: 3.26629e-10 | AMK3: 3.27106e-10 | AML3: 3.27254e-10 | AMM3: 3.29298e-10 | AMN3: 3.29098e-10 | AMO3: 3.29832e-10 | AMP3: 3.27378e-10 | AMQ3: 3.26854e-10 | AMR3: 3.26964e-10 | AMS3: 3.26607e-10 | AMT3: 3.25998e-10 | AMU3: 3.24206e-10 | AMV3: 3.26732e-10 | AMW3: 3.25708e-10 | AMX3: 3.24139e-10 | AMY3: 3.25131e-10 | AMZ3: 3.25637e-10 | ANA3: 3.24283e-10 | ANB3: 3.25176e-10 | ANC3: 3.22942e-10 | AND3: 3.22762e-10 | ANE3: 3.21952e-10 | ANF3: 3.21087e-10 | ANG3: 3.20185e-10 | ANH3: 3.23238e-10 | ANI3: 3.20251e-10 | ANJ3: 3.20941e-10 | ANK3: 3.20478e-10 | ANL3: 3.22456e-10 | ANM3: 3.2191e-10 | ANN3: 3.20006e-10 | ANO3: 3.19641e-10 | ANP3: 3.18119e-10 | ANQ3: 3.20768e-10 | ANR3: 3.17902e-10 | ANS3: 3.2075e-10 | ANT3: 3.20576e-10 | ANU3: 3.19508e-10 | ANV3: 3.21074e-10 | ANW3: 3.19349e-10 | ANX3: 3.18017e-10 | ANY3: 3.15319e-10 | ANZ3: 3.17393e-10 | AOA3: 3.1864e-10 | AOB3: 3.18553e-10 | AOC3: 3.17319e-10 | AOD3: 3.16572e-10 | AOE3: 3.13359e-10 | AOF3: 3.14115e-10 | AOG3: 3.16029e-10 | AOH3: 3.15435e-10 | AOI3: 3.14466e-10 | AOJ3: 3.15924e-10 | AOK3: 3.13547e-10 | AOL3: 3.1592e-10 | AOM3: 3.15745e-10 | AON3: 3.12736e-10 | AOO3: 3.13811e-10 | AOP3: 3.12175e-10 | AOQ3: 3.13989e-10 | AOR3: 3.09935e-10 | AOS3: 3.11711e-10 | AOT3: 3.14628e-10 | AOU3: 3.12323e-10 | AOV3: 3.12785e-10 | AOW3: 3.11737e-10 | AOX3: 3.10758e-10 | AOY3: 3.09701e-10 | AOZ3: 3.12385e-10 | APA3: 3.1074e-10 | APB3: 3.10691e-10 | APC3: 3.09677e-10 | APD3: 3.09859e-10 | APE3: 3.07111e-10 | APF3: 3.10215e-10 | APG3: 3.09971e-10 | APH3: 3.10304e-10 | API3: 3.07914e-10 | APJ3: 3.09263e-10 | APK3: 3.08536e-10 | APL3: 3.05457e-10 | APM3: 3.07875e-10 | APN3: 3.0714e-10 | APO3: 3.06648e-10 | APP3: 3.07545e-10 | APQ3: 3.06641e-10 | APR3: 3.06316e-10 | APS3: 3.07403e-10 | APT3: 3.07919e-10 | APU3: 3.07067e-10 | APV3: 3.0505e-10 | APW3: 3.06057e-10 | APX3: 3.04039e-10 | APY3: 3.0603e-10 | APZ3: 3.04008e-10 | AQA3: 3.03768e-10 | AQB3: 3.02871e-10 | AQC3: 3.03523e-10 | AQD3: 3.02334e-10 | AQE3: 3.02788e-10 | AQF3: 3.00957e-10 | AQG3: 3.01796e-10 | AQH3: 3.0184e-10 | AQI3: 3.01706e-10 | AQJ3: 3.01646e-10 | AQK3: 3.00538e-10 | AQL3: 3.01656e-10 | AQM3: 3.01949e-10 | AQN3: 2.99422e-10 | AQO3: 2.9912e-10 | AQP3: 2.98765e-10 | AQQ3: 3.00853e-10 | AQR3: 2.9937e-10 | AQS3: 3.00899e-10 | AQT3: 2.99537e-10 | AQU3: 2.97277e-10 | AQV3: 2.96472e-10 | AQW3: 2.96524e-10 | AQX3: 2.9744e-10 | AQY3: 2.97719e-10 | AQZ3: 2.98235e-10 | ARA3: 2.96355e-10 | ARB3: 2.95848e-10 | ARC3: 2.96381e-10 | ARD3: 2.96106e-10 | ARE3: 2.95345e-10 | ARF3: 2.97522e-10 | ARG3: 2.98205e-10 | ARH3: 2.94519e-10 | ARI3: 2.97421e-10 | ARJ3: 2.96319e-10 | ARK3: 2.96223e-10 | ARL3: 2.9787e-10 | ARM3: 2.94673e-10 | ARN3: 2.93405e-10 | ARO3: 2.94405e-10 | ARP3: 2.95162e-10 | ARQ3: 2.92817e-10 | ARR3: 2.92104e-10 | ARS3: 2.91859e-10 | ART3: 2.9102e-10 | ARU3: 2.91954e-10 | ARV3: 2.91846e-10 | ARW3: 2.93063e-10 | ARX3: 2.91475e-10 | ARY3: 2.91867e-10 | ARZ3: 2.92692e-10 | ASA3: 2.90932e-10 | ASB3: 2.90541e-10 | ASC3: 2.88021e-10 | ASD3: 2.9247e-10 | ASE3: 2.89993e-10 | ASF3: 2.89212e-10 | ASG3: 2.90224e-10 | ASH3: 2.89425e-10 | ASI3: 2.90705e-10 | ASJ3: 2.9008e-10 | ASK3: 2.86583e-10 | ASL3: 2.87322e-10 | ASM3: 2.85963e-10 | ASN3: 2.90686e-10 | ASO3: 2.89427e-10 | ASP3: 2.88301e-10 | ASQ3: 2.8745e-10 | ASR3: 2.86172e-10 | ASS3: 2.86114e-10 | AST3: 2.86954e-10 | ASU3: 2.85904e-10 | ASV3: 2.85745e-10 | ASW3: 2.84955e-10 | ASX3: 2.84607e-10 | ASY3: 2.85739e-10 | ASZ3: 2.84014e-10 | ATA3: 2.85336e-10 | ATB3: 2.83595e-10 | ATC3: 2.82684e-10 | ATD3: 2.84204e-10 | ATE3: 2.82429e-10 | ATF3: 2.81868e-10 | ATG3: 2.83472e-10 | ATH3: 2.83493e-10 | ATI3: 2.81367e-10 | ATJ3: 2.84408e-10 | ATK3: 2.837e-10 | ATL3: 2.82341e-10 | ATM3: 2.82927e-10 | ATN3: 2.83809e-10 | ATO3: 2.81329e-10 | ATP3: 2.79906e-10 | ATQ3: 2.79773e-10 | ATR3: 2.80218e-10 | ATS3: 2.78748e-10 | ATT3: 2.78188e-10 | ATU3: 2.80099e-10 | ATV3: 2.78156e-10 | ATW3: 2.77545e-10 | ATX3: 2.76591e-10 | ATY3: 2.78186e-10 | ATZ3: 2.77083e-10 | AUA3: 2.78409e-10 | AUB3: 2.78923e-10 | AUC3: 2.76179e-10 | AUD3: 2.77457e-10 | AUE3: 2.75961e-10 | AUF3: 2.78101e-10 | AUG3: 2.74875e-10 | AUH3: 2.74515e-10 | AUI3: 2.73982e-10 | AUJ3: 2.76113e-10 | AUK3: 2.7549e-10 | AUL3: 2.75273e-10 | AUM3: 2.75409e-10 | AUN3: 2.7381e-10 | AUO3: 2.73549e-10 | AUP3: 2.74386e-10 | AUQ3: 2.73898e-10 | AUR3: 2.7436e-10 | AUS3: 2.74734e-10 | AUT3: 2.7614e-10 | AUU3: 2.72199e-10 | AUV3: 2.74854e-10 | AUW3: 2.70117e-10 | AUX3: 2.72373e-10 | AUY3: 2.73364e-10 | AUZ3: 2.72639e-10 | AVA3: 2.69585e-10 | AVB3: 2.72031e-10 | AVC3: 2.70228e-10 | AVD3: 2.69026e-10 | AVE3: 2.68988e-10 | AVF3: 2.68883e-10 | AVG3: 2.70091e-10 | AVH3: 2.71095e-10 | AVI3: 2.68195e-10 | AVJ3: 2.70143e-10 | AVK3: 2.69242e-10 | AVL3: 2.68059e-10 | AVM3: 2.68958e-10 | AVN3: 2.69574e-10 | AVO3: 2.70153e-10 | AVP3: 2.65959e-10 | AVQ3: 2.67819e-10 | AVR3: 2.65015e-10 | AVS3: 2.66702e-10 | AVT3: 2.65809e-10 | AVU3: 2.68129e-10 | AVV3: 2.66189e-10 | AVW3: 2.67575e-10 | AVX3: 2.66305e-10 | AVY3: 2.64561e-10 | AVZ3: 2.64487e-10 | AWA3: 2.65452e-10 | AWB3: 2.65687e-10 | AWC3: 2.64427e-10 | AWD3: 2.6315e-10 | AWE3: 2.63226e-10 | AWF3: 2.62481e-10 | AWG3: 2.63244e-10 | AWH3: 2.61047e-10 | AWI3: 2.62042e-10 | AWJ3: 2.61564e-10 | AWK3: 2.62584e-10 | AWL3: 2.62327e-10 | AWM3: 2.59832e-10 | AWN3: 2.60301e-10 | AWO3: 2.6213e-10 | AWP3: 2.60472e-10 | AWQ3: 2.61131e-10 | AWR3: 2.59283e-10 | AWS3: 2.58825e-10 | AWT3: 2.61313e-10 | AWU3: 2.59776e-10 | AWV3: 2.57543e-10 | AWW3: 2.60226e-10 | AWX3: 2.57549e-10 | AWY3: 2.57248e-10 | AWZ3: 2.56819e-10 | AXA3: 2.57156e-10 | AXB3: 2.58189e-10 | AXC3: 2.59978e-10 | AXD3: 2.56953e-10 | AXE3: 2.58487e-10 | AXF3: 2.57247e-10 | AXG3: 2.5679e-10 | AXH3: 2.54926e-10 | AXI3: 2.56119e-10 | AXJ3: 2.56499e-10 | AXK3: 2.54926e-10 | AXL3: 2.55845e-10 | AXM3: 2.55664e-10 | AXN3: 2.5376e-10 | AXO3: 2.54959e-10 | AXP3: 2.5582e-10 | AXQ3: 2.54056e-10 | AXR3: 2.54163e-10 | AXS3: 2.54564e-10 | AXT3: 2.54738e-10 | AXU3: 2.5355e-10 | AXV3: 2.54113e-10 | AXW3: 2.53065e-10 | AXX3: 2.54224e-10 | AXY3: 2.51127e-10 | AXZ3: 2.50089e-10 | AYA3: 2.5047e-10 | AYB3: 2.50941e-10 | AYC3: 2.51202e-10 | AYD3: 2.50235e-10 | AYE3: 2.50103e-10 | AYF3: 2.50184e-10 | AYG3: 2.49579e-10 | AYH3: 2.51849e-10 | AYI3: 2.48574e-10 | AYJ3: 2.49443e-10 | AYK3: 2.49171e-10 | AYL3: 2.48654e-10 | AYM3: 2.50515e-10 | AYN3: 2.48051e-10 | AYO3: 2.49406e-10 | AYP3: 2.45879e-10 | AYQ3: 2.47027e-10 | AYR3: 2.46354e-10 | AYS3: 2.48184e-10 | AYT3: 2.48757e-10 | AYU3: 2.45955e-10 | AYV3: 2.46788e-10 | AYW3: 2.461e-10 | AYX3: 2.45999e-10 | AYY3: 2.4341e-10 | AYZ3: 2.45858e-10 | AZA3: 2.46458e-10 | AZB3: 2.43981e-10 | AZC3: 2.44967e-10 | AZD3: 2.43908e-10 | AZE3: 2.44548e-10 | AZF3: 2.44337e-10 | AZG3: 2.45428e-10 | AZH3: 2.45392e-10 | AZI3: 2.43426e-10 | AZJ3: 2.40903e-10 | AZK3: 2.43317e-10 | AZL3: 2.43556e-10 | AZM3: 2.42018e-10 | AZN3: 2.41276e-10 | AZO3: 2.41533e-10 | AZP3: 2.4297e-10 | AZQ3: 2.43153e-10 | AZR3: 2.40113e-10 | AZS3: 2.40686e-10 | AZT3: 2.39021e-10 | AZU3: 2.38955e-10 | AZV3: 2.40846e-10 | AZW3: 2.39272e-10 | AZX3: 2.39806e-10 | AZY3: 2.40044e-10 | AZZ3: 2.38658e-10 | BAA3: 2.38513e-10 | BAB3: 2.37299e-10 | BAC3: 2.3845e-10 | BAD3: 2.37489e-10 | BAE3: 2.35968e-10 | BAF3: 2.35632e-10 | BAG3: 2.3529e-10 | BAH3: 2.37283e-10 | BAI3: 2.36306e-10 | BAJ3: 2.36251e-10 | BAK3: 2.37827e-10 | BAL3: 2.34999e-10 | BAM3: 2.35243e-10 | BAN3: 2.34352e-10 | BAO3: 2.35387e-10 | BAP3: 2.34009e-10 | BAQ3: 2.3509e-10 | BAR3: 2.34798e-10 | BAS3: 2.3546e-10 | BAT3: 2.33057e-10 | BAU3: 2.32899e-10 | BAV3: 2.32794e-10 | BAW3: 2.30248e-10 | BAX3: 2.3309e-10 | BAY3: 2.30591e-10 | BAZ3: 2.31947e-10 | BBA3: 2.30983e-10 | BBB3: 2.33476e-10 | BBC3: 2.30191e-10 | BBD3: 2.32301e-10 | BBE3: 2.32365e-10 | BBF3: 2.29961e-10 | BBG3: 2.28474e-10 | BBH3: 2.30406e-10 | BBI3: 2.31217e-10 | BBJ3: 2.30516e-10 | BBK3: 2.31472e-10 | BBL3: 2.28909e-10 | BBM3: 2.27152e-10 | BBN3: 2.29388e-10 | BBO3: 2.28757e-10 | BBP3: 2.28201e-10 | BBQ3: 2.28023e-10 | BBR3: 2.26492e-10 | BBS3: 2.25879e-10 | BBT3: 2.26845e-10 | BBU3: 2.23634e-10 | BBV3: 2.27469e-10 | BBW3: 2.27344e-10 | BBX3: 2.26832e-10 | BBY3: 2.24326e-10 | BBZ3: 2.25075e-10 | BCA3: 2.24259e-10 | BCB3: 2.24146e-10 | BCC3: 2.26367e-10 | BCD3: 2.25237e-10 | BCE3: 2.22763e-10 | BCF3: 2.26559e-10 | BCG3: 2.24703e-10 | BCH3: 2.23027e-10 | BCI3: 2.21801e-10 | BCJ3: 2.24433e-10 | BCK3: 2.20718e-10 | BCL3: 2.22714e-10 | BCM3: 2.20955e-10 | BCN3: 2.2115e-10 | BCO3: 2.21691e-10 | BCP3: 2.22749e-10 | BCQ3: 2.20599e-10 | BCR3: 2.19939e-10 | BCS3: 2.19301e-10 | BCT3: 2.21185e-10 | BCU3: 2.21749e-10 | BCV3: 2.20042e-10 | BCW3: 2.19131e-10 | BCX3: 2.18877e-10 | BCY3: 2.20805e-10 | BCZ3: 2.18558e-10 | BDA3: 2.17614e-10 | BDB3: 2.20037e-10 | BDC3: 2.187e-10 | BDD3: 2.18854e-10 | BDE3: 2.19197e-10 | BDF3: 2.1749e-10 | BDG3: 2.17857e-10 | BDH3: 2.14556e-10 | BDI3: 2.16962e-10 | BDJ3: 2.13015e-10 | BDK3: 2.16129e-10 | BDL3: 2.14232e-10 | BDM3: 2.14755e-10 | BDN3: 2.1646e-10 | BDO3: 2.16521e-10 | BDP3: 2.16025e-10 | BDQ3: 2.15215e-10 | BDR3: 2.12723e-10 | BDS3: 2.16574e-10 | BDT3: 2.15012e-10 | BDU3: 2.15144e-10 | BDV3: 2.14289e-10 | BDW3: 2.12676e-10 | BDX3: 2.13587e-10 | BDY3: 2.12203e-10 | BDZ3: 2.11518e-10 | BEA3: 2.1249e-10 | BEB3: 2.13335e-10 | BEC3: 2.13195e-10 | BED3: 2.12204e-10 | BEE3: 2.10227e-10 | BEF3: 2.10711e-10 | BEG3: 2.11365e-10 | BEH3: 2.1123e-10 | BEI3: 2.09141e-10 | BEJ3: 2.08791e-10 | BEK3: 2.09472e-10 | BEL3: 2.09567e-10 | BEM3: 2.0865e-10 | BEN3: 2.09499e-10 | BEO3: 2.08847e-10 | BEP3: 2.07671e-10 | BEQ3: 2.08396e-10 | BER3: 2.07276e-10 | BES3: 2.0927e-10 | BET3: 2.06085e-10 | BEU3: 2.0781e-10 | BEV3: 2.0652e-10 | BEW3: 2.06903e-10 | BEX3: 2.05852e-10 | BEY3: 2.05305e-10 | BEZ3: 2.06385e-10 | BFA3: 2.0427e-10 | BFB3: 2.04782e-10 | BFC3: 2.04976e-10 | BFD3: 2.04197e-10 | BFE3: 2.04099e-10 | BFF3: 2.03841e-10 | BFG3: 2.03177e-10 | BFH3: 2.01155e-10 | BFI3: 2.00629e-10 | BFJ3: 2.03813e-10 | BFK3: 2.02931e-10 | BFL3: 2.02184e-10 | BFM3: 2.00852e-10 | BFN3: 2.02551e-10 | BFO3: 2.02927e-10 | BFP3: 2.00049e-10 | BFQ3: 2.01767e-10 | BFR3: 2.01615e-10 | BFS3: 2.02279e-10 | BFT3: 2.00565e-10 | BFU3: 2.00423e-10 | BFV3: 1.99648e-10 | BFW3: 2.00366e-10 | BFX3: 1.98049e-10 | BFY3: 1.98696e-10 | BFZ3: 1.99121e-10 | BGA3: 1.99398e-10 | BGB3: 1.99503e-10 | BGC3: 1.98279e-10 | BGD3: 1.97948e-10 | BGE3: 1.9832e-10 | BGF3: 1.97785e-10 | BGG3: 1.97934e-10 | BGH3: 1.97232e-10 | BGI3: 1.97648e-10 | BGJ3: 1.95184e-10 | BGK3: 1.96998e-10 | BGL3: 1.97076e-10 | BGM3: 1.93915e-10 | BGN3: 1.95627e-10 | BGO3: 1.95102e-10 | BGP3: 1.93881e-10 | BGQ3: 1.94672e-10 | BGR3: 1.94072e-10 | BGS3: 1.94989e-10 | BGT3: 1.93892e-10 | BGU3: 1.94285e-10 | BGV3: 1.93121e-10 | BGW3: 1.91531e-10 | BGX3: 1.93488e-10 | BGY3: 1.94494e-10 | BGZ3: 1.89593e-10 | BHA3: 1.92253e-10 | BHB3: 1.91379e-10 | BHC3: 1.92886e-10 | BHD3: 1.91785e-10 | BHE3: 1.90785e-10 | BHF3: 1.91043e-10 | BHG3: 1.88977e-10 | BHH3: 1.89624e-10 | BHI3: 1.89949e-10 | BHJ3: 1.90587e-10 | BHK3: 1.88201e-10 | BHL3: 1.88773e-10 | BHM3: 1.90098e-10 | BHN3: 1.89446e-10 | BHO3: 1.88729e-10 | BHP3: 1.88525e-10 | BHQ3: 1.88691e-10 | BHR3: 1.86441e-10 | BHS3: 1.87602e-10 | BHT3: 1.87312e-10 | BHU3: 1.86226e-10 | BHV3: 1.88668e-10 | BHW3: 1.85185e-10 | BHX3: 1.85734e-10 | BHY3: 1.85329e-10 | BHZ3: 1.86346e-10 | BIA3: 1.85405e-10 | BIB3: 1.85062e-10 | BIC3: 1.85478e-10 | BID3: 1.84992e-10 | BIE3: 1.84509e-10 | BIF3: 1.84029e-10 | BIG3: 1.83847e-10 | BIH3: 1.85514e-10 | BII3: 1.81909e-10 | BIJ3: 1.84578e-10 | BIK3: 1.83523e-10 | BIL3: 1.84099e-10 | BIM3: 1.81779e-10 | BIN3: 1.81086e-10 | BIO3: 1.81664e-10 | BIP3: 1.79895e-10 | BIQ3: 1.80154e-10 | BIR3: 1.81863e-10 | BIS3: 1.81335e-10 | BIT3: 1.81403e-10 | BIU3: 1.80161e-10 | BIV3: 1.79632e-10 | BIW3: 1.78922e-10 | BIX3: 1.78282e-10 | BIY3: 1.78729e-10 | BIZ3: 1.7864e-10 | BJA3: 1.79474e-10 | BJB3: 1.76891e-10 | BJC3: 1.78791e-10 | BJD3: 1.81726e-10 | BJE3: 1.74769e-10 | BJF3: 1.75014e-10 | BJG3: 1.76911e-10 | BJH3: 1.75746e-10 | BJI3: 1.7618e-10 | BJJ3: 1.76991e-10 | BJK3: 1.75542e-10 | BJL3: 1.74923e-10 | BJM3: 1.74732e-10 | BJN3: 1.74577e-10 | BJO3: 1.75052e-10 | BJP3: 1.74205e-10 | BJQ3: 1.74668e-10 | BJR3: 1.75102e-10 | BJS3: 1.72913e-10 | BJT3: 1.74584e-10 | BJU3: 1.73231e-10 | BJV3: 1.72556e-10 | BJW3: 1.73162e-10 | BJX3: 1.74085e-10 | BJY3: 1.72624e-10 | BJZ3: 1.72602e-10 | BKA3: 1.69739e-10 | BKB3: 1.72113e-10 | BKC3: 1.72319e-10 | BKD3: 1.72565e-10 | BKE3: 1.7193e-10 | BKF3: 1.70517e-10 | BKG3: 1.71057e-10 | BKH3: 1.69852e-10 | BKI3: 1.69684e-10 | BKJ3: 1.69734e-10 | BKK3: 1.68131e-10 | BKL3: 1.69158e-10 | BKM3: 1.70543e-10 | BKN3: 1.68152e-10 | BKO3: 1.67147e-10 | BKP3: 1.65736e-10 | BKQ3: 1.68018e-10 | BKR3: 1.66694e-10 | BKS3: 1.66398e-10 | BKT3: 1.66641e-10 | BKU3: 1.64929e-10 | BKV3: 1.66565e-10 | BKW3: 1.67897e-10 | BKX3: 1.66262e-10 | BKY3: 1.65494e-10 | BKZ3: 1.6431e-10 | BLA3: 1.64391e-10 | BLB3: 1.65279e-10 | BLC3: 1.63182e-10 | BLD3: 1.64774e-10 | BLE3: 1.63945e-10 | BLF3: 1.66135e-10 | BLG3: 1.64619e-10 | BLH3: 1.64144e-10 | BLI3: 1.62756e-10 | BLJ3: 1.62485e-10 | BLK3: 1.62749e-10 | BLL3: 1.63898e-10 | BLM3: 1.63006e-10 | BLN3: 1.6368e-10 | BLO3: 1.61071e-10 | BLP3: 1.61168e-10 | BLQ3: 1.61493e-10 | BLR3: 1.59705e-10 | BLS3: 1.62583e-10 | BLT3: 1.58974e-10 | BLU3: 1.60402e-10 | BLV3: 1.59419e-10 | BLW3: 1.59381e-10 | BLX3: 1.58091e-10 | BLY3: 1.5827e-10 | BLZ3: 1.57451e-10 | BMA3: 1.5941e-10 | BMB3: 1.58658e-10 | BMC3: 1.58975e-10 | BMD3: 1.58054e-10 | BME3: 1.58418e-10 | BMF3: 1.55989e-10 | BMG3: 1.59924e-10 | BMH3: 1.57303e-10 | BMI3: 1.56444e-10 | BMJ3: 1.57464e-10 | BMK3: 1.562e-10 | BML3: 1.55077e-10 | BMM3: 1.56736e-10 | BMN3: 1.54123e-10 | BMO3: 1.53816e-10 | BMP3: 1.54426e-10 | BMQ3: 1.54383e-10 | BMR3: 1.53274e-10 | BMS3: 1.52678e-10 | BMT3: 1.53688e-10 | BMU3: 1.52622e-10 | BMV3: 1.56145e-10 | BMW3: 1.52544e-10 | BMX3: 1.53165e-10 | BMY3: 1.52775e-10 | BMZ3: 1.51583e-10 | BNA3: 1.52502e-10 | BNB3: 1.51942e-10 | BNC3: 1.52915e-10 | BND3: 1.51195e-10 | BNE3: 1.50353e-10 | BNF3: 1.5069e-10 | BNG3: 1.51255e-10 | BNH3: 1.49996e-10 | BNI3: 1.49507e-10 | BNJ3: 1.49304e-10 | BNK3: 1.47528e-10 | BNL3: 1.49797e-10 | BNM3: 1.48937e-10 | BNN3: 1.47918e-10 | BNO3: 1.47489e-10 | BNP3: 1.47335e-10 | BNQ3: 1.48778e-10 | BNR3: 1.47009e-10 | BNS3: 1.48651e-10 | BNT3: 1.47152e-10 | BNU3: 1.46399e-10 | BNV3: 1.47128e-10 | BNW3: 1.46454e-10 | BNX3: 1.44113e-10 | BNY3: 1.45084e-10 | BNZ3: 1.45055e-10 | BOA3: 1.44963e-10 | BOB3: 1.44621e-10 | BOC3: 1.46078e-10 | BOD3: 1.44813e-10 | BOE3: 1.42795e-10 | BOF3: 1.43293e-10 | BOG3: 1.45041e-10 | BOH3: 1.45832e-10 | BOI3: 1.41887e-10 | BOJ3: 1.43461e-10 | BOK3: 1.43871e-10 | BOL3: 1.42556e-10 | BOM3: 1.41629e-10 | BON3: 1.42096e-10 | BOO3: 1.4117e-10 | BOP3: 1.42371e-10 | BOQ3: 1.40456e-10 | BOR3: 1.41574e-10 | BOS3: 1.38215e-10 | BOT3: 1.39996e-10 | BOU3: 1.40873e-10 | BOV3: 1.4109e-10 | BOW3: 1.38173e-10 | BOX3: 1.39225e-10 | BOY3: 1.39369e-10 | BOZ3: 1.37963e-10 | BPA3: 1.37419e-10 | BPB3: 1.38548e-10 | BPC3: 1.39084e-10 | BPD3: 1.37448e-10 | BPE3: 1.34854e-10 | BPF3: 1.37004e-10 | BPG3: 1.36263e-10 | BPH3: 1.36621e-10 | BPI3: 1.35974e-10 | BPJ3: 1.36444e-10 | BPK3: 1.3529e-10 | BPL3: 1.3612e-10 | BPM3: 1.35566e-10 | BPN3: 1.35215e-10 | BPO3: 1.33355e-10 | BPP3: 1.33231e-10 | BPQ3: 1.35495e-10 | BPR3: 1.33222e-10 | BPS3: 1.34182e-10 | BPT3: 1.32452e-10 | BPU3: 1.33376e-10 | BPV3: 1.32827e-10 | BPW3: 1.32731e-10 | BPX3: 1.33223e-10 | BPY3: 1.31266e-10 | BPZ3: 1.31711e-10 | BQA3: 1.32493e-10 | BQB3: 1.30985e-10 | BQC3: 1.31589e-10 | BQD3: 1.30013e-10 | BQE3: 1.29249e-10 | BQF3: 1.30109e-10 | BQG3: 1.29965e-10 | BQH3: 1.30199e-10 | BQI3: 1.27318e-10 | BQJ3: 1.29568e-10 | BQK3: 1.29842e-10 | BQL3: 1.2973e-10 | BQM3: 1.28967e-10 | BQN3: 1.27729e-10 | BQO3: 1.27783e-10 | BQP3: 1.28267e-10 | BQQ3: 1.27929e-10 | BQR3: 1.27875e-10 | BQS3: 1.27662e-10 | BQT3: 1.26237e-10 | BQU3: 1.25125e-10 | BQV3: 1.24444e-10 | BQW3: 1.26308e-10 | BQX3: 1.25281e-10 | BQY3: 1.24498e-10 | BQZ3: 1.2425e-10 | BRA3: 1.23858e-10 | BRB3: 1.24296e-10 | BRC3: 1.22898e-10 | BRD3: 1.23201e-10 | BRE3: 1.22835e-10 | BRF3: 1.21481e-10 | BRG3: 1.21106e-10 | BRH3: 1.22454e-10 | BRI3: 1.20822e-10 | BRJ3: 1.21978e-10 | BRK3: 1.21674e-10 | BRL3: 1.22192e-10 | BRM3: 1.21838e-10 | BRN3: 1.21754e-10 | BRO3: 1.20552e-10 | BRP3: 1.20496e-10 | BRQ3: 1.19439e-10 | BRR3: 1.20471e-10 | BRS3: 1.19724e-10 | BRT3: 1.17769e-10 | BRU3: 1.19475e-10 | BRV3: 1.19816e-10 | BRW3: 1.17505e-10 | BRX3: 1.19023e-10 | BRY3: 1.17589e-10 | BRZ3: 1.18575e-10 | BSA3: 1.17075e-10 | BSB3: 1.17537e-10 | BSC3: 1.16734e-10 | BSD3: 1.17392e-10 | BSE3: 1.1611e-10 | BSF3: 1.16118e-10 | BSG3: 1.1639e-10 | BSH3: 1.14196e-10 | BSI3: 1.1537e-10 | BSJ3: 1.1517e-10 | BSK3: 1.14747e-10 | BSL3: 1.1358e-10 | BSM3: 1.13877e-10 | BSN3: 1.12085e-10 | BSO3: 1.12649e-10 | BSP3: 1.1332e-10 | BSQ3: 1.11658e-10 | BSR3: 1.12693e-10 | BSS3: 1.1163e-10 | BST3: 1.13472e-10 | BSU3: 1.11406e-10 | BSV3: 1.11182e-10 | BSW3: 1.11317e-10 | BSX3: 1.11465e-10 | BSY3: 1.09925e-10 | BSZ3: 1.11547e-10 | BTA3: 1.11099e-10 | BTB3: 1.0987e-10 | BTC3: 1.1056e-10 | BTD3: 1.09022e-10 | BTE3: 1.09601e-10 | BTF3: 1.08197e-10 | BTG3: 1.08997e-10 | BTH3: 1.08748e-10 | BTI3: 1.06212e-10 | BTJ3: 1.07648e-10 | BTK3: 1.07147e-10 | BTL3: 1.07238e-10 | BTM3: 1.07368e-10 | BTN3: 1.07241e-10 | BTO3: 1.0617e-10 | BTP3: 1.06116e-10 | BTQ3: 1.06148e-10 | BTR3: 1.05138e-10 | BTS3: 1.05615e-10 | BTT3: 1.03888e-10 | BTU3: 1.05285e-10 | BTV3: 1.05333e-10 | BTW3: 1.0533e-10 | BTX3: 1.056e-10 | BTY3: 1.02605e-10 | BTZ3: 1.01882e-10 | BUA3: 1.04602e-10 | BUB3: 1.03092e-10 | BUC3: 1.02913e-10 | BUD3: 1.0139e-10 | BUE3: 1.02118e-10 | BUF3: 1.006e-10 | BUG3: 1.03395e-10 | BUH3: 1.02375e-10 | BUI3: 1.00889e-10 | BUJ3: 1.00896e-10 | BUK3: 9.97562e-11 | BUL3: 9.90948e-11 | BUM3: 9.90971e-11 | BUN3: 9.8897e-11 | BUO3: 9.91531e-11 | BUP3: 9.92104e-11 | BUQ3: 9.83213e-11 | BUR3: 9.73977e-11 | BUS3: 9.7447e-11 | BUT3: 9.79745e-11 | BUU3: 9.64771e-11 | BUV3: 9.64552e-11 | BUW3: 9.67825e-11 | BUX3: 9.73927e-11 | BUY3: 9.61925e-11 | BUZ3: 9.4949e-11 | BVA3: 9.66685e-11 | BVB3: 9.46606e-11 | BVC3: 9.46329e-11 | BVD3: 9.45803e-11 | BVE3: 9.53463e-11 | BVF3: 9.49303e-11 | BVG3: 9.4086e-11 | BVH3: 9.27455e-11 | BVI3: 9.33294e-11 | BVJ3: 9.17492e-11 | BVK3: 9.28376e-11 | BVL3: 9.34911e-11 | BVM3: 9.18196e-11 | BVN3: 9.27803e-11 | BVO3: 9.24354e-11 | BVP3: 9.12607e-11 | BVQ3: 9.11827e-11 | BVR3: 8.9013e-11 | BVS3: 9.04092e-11 | BVT3: 9.01823e-11 | BVU3: 8.97854e-11 | BVV3: 8.92598e-11 | BVW3: 8.98667e-11 | BVX3: 8.89626e-11 | BVY3: 8.91773e-11 | BVZ3: 8.79893e-11 | BWA3: 8.84051e-11 | BWB3: 8.77778e-11 | BWC3: 8.7561e-11 | BWD3: 8.64864e-11 | BWE3: 8.73108e-11 | BWF3: 8.50192e-11 | BWG3: 8.56154e-11 | BWH3: 8.55851e-11 | BWI3: 8.5848e-11 | BWJ3: 8.52624e-11 | BWK3: 8.49793e-11 | BWL3: 8.47097e-11 | BWM3: 8.42657e-11 | BWN3: 8.47066e-11 | BWO3: 8.27241e-11 | BWP3: 8.30861e-11 | BWQ3: 8.25867e-11 | BWR3: 8.30916e-11 | BWS3: 8.2017e-11 | BWT3: 8.15503e-11 | BWU3: 8.12409e-11 | BWV3: 8.20731e-11 | BWW3: 8.14351e-11 | BWX3: 8.0629e-11 | BWY3: 7.91727e-11 | BWZ3: 7.91535e-11 | BXA3: 7.93564e-11 | BXB3: 7.78658e-11 | BXC3: 7.93933e-11 | BXD3: 7.92377e-11 | BXE3: 7.80213e-11 | BXF3: 7.70671e-11 | BXG3: 7.76982e-11 | BXH3: 7.69755e-11 | BXI3: 7.80384e-11 | BXJ3: 7.74673e-11 | BXK3: 7.6429e-11 | BXL3: 7.60045e-11 | BXM3: 7.56549e-11 | BXN3: 7.33164e-11 | BXO3: 7.44322e-11 | BXP3: 7.52288e-11 | BXQ3: 7.41755e-11 | BXR3: 7.30922e-11 | BXS3: 7.20385e-11 | BXT3: 7.26462e-11 | BXU3: 7.14684e-11 | BXV3: 7.17956e-11 | BXW3: 7.10896e-11 | BXX3: 7.14107e-11 | BXY3: 7.0629e-11 | BXZ3: 7.06472e-11 | BYA3: 7.09466e-11 | BYB3: 7.07605e-11 | BYC3: 7.04942e-11 | BYD3: 6.94361e-11 | BYE3: 6.96947e-11 | BYF3: 6.87915e-11 | BYG3: 6.85815e-11 | BYH3: 6.82413e-11 | BYI3: 6.71713e-11 | BYJ3: 6.62809e-11 | BYK3: 6.77491e-11 | BYL3: 6.74887e-11 | BYM3: 6.54203e-11 | BYN3: 6.59004e-11 | BYO3: 6.58203e-11 | BYP3: 6.59009e-11 | BYQ3: 6.40031e-11
A4: 104 | B4: Along Å© | C4: 0.00257602 | D4: -0.00241905 | E4: 0.1 | F4: -0.000156976 | G4: 0.00499507 | H4: 0 | I4: -0.00499507 | J4: -0.000156976 | K4: 0 | L4: 0.00499753 | M4: 0.00499753 | N4: 0 | O4: 0 | P4: 0.1 | Q4: 1669.01 | R4: 3146614 | S4: 3146610 | T4: 1.71767e-10 | U4: 2.97658e-10 | V4: 3.62297e-10 | W4: 3.99155e-10 | X4: 4.16161e-10 | Y4: 4.1551e-10 | Z4: 3.99211e-10 | AA4: 3.61969e-10 | AB4: 2.97566e-10 | AC4: 1.71308e-10
A5: }

Sheet Screenshots
A1: Facet 103:
A13: Facet 104:

Sheet Comparison facet 103
A1: ='Profile plotter'!A1 -> X axis | B1: F#103 - profile plotter | C1: F#103 - export profiles | D1: Ratio | E1: F#103 - pressure from "facet details"
A2: Average | B2: =AVERAGE(B3:B2002) -> 6.583084e-10 | C2: =AVERAGE(C3:C2002) -> 3.2915419e-10 | D2: =B2/C2 -> 2.0000001 | E2: 3.29e-10
A3: ='Profile plotter'!A2 -> 0 | B3: ='Profile plotter'!B2 -> 1.18452e-09 | C3: 5.9226e-10 | D3: =B3/C3 -> 2
A4: ='Profile plotter'!A3 -> 1 | B4: ='Profile plotter'!B3 -> 1.17911e-09 | C4: 5.89557e-10 | D4: =B4/C4 -> 1.9999932
A5: ='Profile plotter'!A4 -> 2 | B5: ='Profile plotter'!B4 -> 1.18682e-09 | C5: 5.93409e-10 | D5: =B5/C5 -> 2.0000034
A6: ='Profile plotter'!A5 -> 3 | B6: ='Profile plotter'!B5 -> 1.18207e-09 | C6: 5.91033e-10 | D6: =B6/C6 -> 2.0000068
A7: ='Profile plotter'!A6 -> 4 | B7: ='Profile plotter'!B6 -> 1.17763e-09 | C7: 5.88813e-10 | D7: =B7/C7 -> 2.0000068
A8: ='Profile plotter'!A7 -> 5 | B8: ='Profile plotter'!B7 -> 1.17965e-09 | C8: 5.89823e-10 | D8: =B8/C8 -> 2.0000068
A9: ='Profile plotter'!A8 -> 6 | B9: ='Profile plotter'!B8 -> 1.18208e-09 | C9: 5.9104e-10 | D9: =B9/C9 -> 2
A10: ='Profile plotter'!A9 -> 7 | B10: ='Profile plotter'!B9 -> 1.1819e-09 | C10: 5.90948e-10 | D10: =B10/C10 -> 2.0000068
A11: ='Profile plotter'!A10 -> 8 | B11: ='Profile plotter'!B10 -> 1.18323e-09 | C11: 5.91614e-10 | D11: =B11/C11 -> 2.0000034
A12: ='Profile plotter'!A11 -> 9 | B12: ='Profile plotter'!B11 -> 1.18091e-09 | C12: 5.90454e-10 | D12: =B12/C12 -> 2.0000034
A13: ='Profile plotter'!A12 -> 10 | B13: ='Profile plotter'!B12 -> 1.17358e-09 | C13: 5.86789e-10 | D13: =B13/C13 -> 2.0000034
A14: ='Profile plotter'!A13 -> 11 | B14: ='Profile plotter'!B13 -> 1.18009e-09 | C14: 5.90047e-10 | D14: =B14/C14 -> 1.9999932
... A2002: ='Profile plotter'!A2001 -> 1999 | B2002: ='Profile plotter'!B2001 -> 1.28006e-10 | C2002: 6.40031e-11 | D2002: =B2002/C2002 -> 1.9999969

Sheet Comparison facet 104
A1: X axis | B1: F#104 - profile plotter | C1: F#104 - export profiles | D1: Ratio | E1: F#104 - pressure from "facet details"
A2: Average | B2: =AVERAGE(B3:B12) -> 6.585601e-10 | C2: =AVERAGE(C3:C12) -> 3.292602e-10 | D2: =B2/C2 -> 2.0001206 | E2: 3.2926e-10
A3: ='Profile plotter'!A2 -> 0 | B3: ='Profile plotter'!C2 -> 6.59463e-10 | C3: 1.71767e-10 | D3: =B3/C3 -> 3.8392881
A4: ='Profile plotter'!A3 -> 1 | B4: ='Profile plotter'!C3 -> 6.58996e-10 | C4: 2.97658e-10 | D4: =B4/C4 -> 2.2139368
A5: ='Profile plotter'!A4 -> 2 | B5: ='Profile plotter'!C4 -> 6.59179e-10 | C5: 3.62297e-10 | D5: =B5/C5 -> 1.8194437
A6: ='Profile plotter'!A5 -> 3 | B6: ='Profile plotter'!C5 -> 6.58683e-10 | C6: 3.99155e-10 | D6: =B6/C6 -> 1.6501935
A7: ='Profile plotter'!A6 -> 4 | B7: ='Profile plotter'!C6 -> 6.5823e-10 | C7: 4.16161e-10 | D7: =B7/C7 -> 1.5816715
A8: ='Profile plotter'!A7 -> 5 | B8: ='Profile plotter'!C7 -> 6.57202e-10 | C8: 4.1551e-10 | D8: =B8/C8 -> 1.5816755
A9: ='Profile plotter'!A8 -> 6 | B9: ='Profile plotter'!C8 -> 6.58774e-10 | C9: 3.99211e-10 | D9: =B9/C9 -> 1.65019
A10: ='Profile plotter'!A9 -> 7 | B10: ='Profile plotter'!C9 -> 6.58582e-10 | C10: 3.61969e-10 | D10: =B10/C10 -> 1.8194431
A11: ='Profile plotter'!A10 -> 8 | B11: ='Profile plotter'!C10 -> 6.58792e-10 | C11: 2.97566e-10 | D11: =B11/C11 -> 2.2139357
A12: ='Profile plotter'!A11 -> 9 | B12: ='Profile plotter'!C11 -> 6.577e-10 | C12: 1.71308e-10 | D12: =B12/C12 -> 3.8392836
